BEGIN:VCALENDAR
PRODID:-//eluceo/ical//2.0/EN
VERSION:2.0
CALSCALE:GREGORIAN
BEGIN:VEVENT
UID:70bdbd01d2a5003814722def5bd201c5
DTSTAMP:20260422T153357Z
SUMMARY:JFS Job Seekers Success Group
DESCRIPTION:Jewish Federation of West-Central New Jersey\nCommunity Calenda
 r\nhttps://jfedwcnj.org/calendar/jfs-job-seekers-success-group-1575475538\
 n\nJFS Job Seekers Success Group
DTSTART;TZID=America/New_York:20200108T190000
DTEND;TZID=America/New_York:20200108T210000
END:VEVENT
END:VCALENDAR
