BEGIN:VCALENDAR
PRODID:-//eluceo/ical//2.0/EN
VERSION:2.0
CALSCALE:GREGORIAN
BEGIN:VEVENT
UID:c9a095a1c3718f5246231cf4f2867521
DTSTAMP:20260424T020329Z
SUMMARY:JFS Job Seekers Success Group
DESCRIPTION:Jewish Federation of West-Central New Jersey\nCommunity Calenda
 r\nhttps://jfedwcnj.org/calendar/jfs-job-seekers-success-group-1573152014\
 n\nJFS Job Seekers Success Group
DTSTART;TZID=America/New_York:20191204T190000
DTEND;TZID=America/New_York:20191204T210000
END:VEVENT
END:VCALENDAR
