BEGIN:VCALENDAR
PRODID:-//eluceo/ical//2.0/EN
VERSION:2.0
CALSCALE:GREGORIAN
BEGIN:VEVENT
UID:0759bbcda4641f11f5e939afcd1c0a9e
DTSTAMP:20260422T005316Z
SUMMARY:JFS Job Seekers Success Group
DESCRIPTION:Jewish Federation of West-Central New Jersey\nCommunity Calenda
 r\nhttps://jfedwcnj.org/calendar/jfs-job-seekers-success-group-1570559088\
 n\nJFS Job Seekers Success Group
DTSTART;TZID=America/New_York:20191106T190000
DTEND;TZID=America/New_York:20191106T210000
END:VEVENT
END:VCALENDAR
