BEGIN:VCALENDAR
PRODID:-//eluceo/ical//2.0/EN
VERSION:2.0
CALSCALE:GREGORIAN
BEGIN:VEVENT
UID:0c0d7565ea2e500f53733b94285f2825
DTSTAMP:20260420T181020Z
SUMMARY:JFS Job Seekers Success Group
DESCRIPTION:Jewish Federation of West-Central New Jersey\nCommunity Calenda
 r\nhttps://jfedwcnj.org/calendar/jfs-job-seekers-success-group-1567702084\
 n\nJFS Job Seekers Success Group
DTSTART;TZID=America/New_York:20191002T190000
DTEND;TZID=America/New_York:20191002T210000
END:VEVENT
END:VCALENDAR
