BEGIN:VCALENDAR
PRODID:-//eluceo/ical//2.0/EN
VERSION:2.0
CALSCALE:GREGORIAN
BEGIN:VEVENT
UID:79672873ad2c23efda6eab46d0313598
DTSTAMP:20260422T020336Z
SUMMARY:JFS Job Seekers Success Group
DESCRIPTION:Jewish Federation of West-Central New Jersey\nCommunity Calenda
 r\nhttps://jfedwcnj.org/calendar/jfs-job-seekers-success-group-1562608133\
 n\nJFS Job Seekers Success Group
DTSTART;TZID=America/New_York:20190807T190000
DTEND;TZID=America/New_York:20190807T210000
END:VEVENT
END:VCALENDAR
