BEGIN:VCALENDAR
PRODID:-//eluceo/ical//2.0/EN
VERSION:2.0
CALSCALE:GREGORIAN
BEGIN:VEVENT
UID:b37085c732378d16e511b6ba36852a2e
DTSTAMP:20260422T151514Z
SUMMARY:JFS Job Seekers Success Group
DESCRIPTION:Jewish Federation of West-Central New Jersey\nCommunity Calenda
 r\nhttps://jfedwcnj.org/calendar/jfs-job-seekers-success-group-1546540461\
 n\nJFS Job Seekers Success Group
DTSTART;TZID=America/New_York:20190206T190000
DTEND;TZID=America/New_York:20190206T210000
END:VEVENT
END:VCALENDAR
