BEGIN:VCALENDAR
PRODID:-//eluceo/ical//2.0/EN
VERSION:2.0
CALSCALE:GREGORIAN
BEGIN:VEVENT
UID:f0837b58fdebaba7fb069425cae38075
DTSTAMP:20260424T033509Z
SUMMARY:JFS Job Seekers Success Group
DESCRIPTION:Jewish Federation of West-Central New Jersey\nCommunity Calenda
 r\nhttps://jfedwcnj.org/calendar/jfs-job-seekers-success-group-1536172102\
 n\nJFS Job Seekers Success Group
DTSTART;TZID=America/New_York:20181003T190000
DTEND;TZID=America/New_York:20181003T210000
END:VEVENT
END:VCALENDAR
