BEGIN:VCALENDAR
PRODID:-//eluceo/ical//2.0/EN
VERSION:2.0
CALSCALE:GREGORIAN
BEGIN:VEVENT
UID:1e08b19b7f240223ce13f33c3ab32a5d
DTSTAMP:20260422T084314Z
SUMMARY:JFS Job Seekers Success Group
DESCRIPTION:Jewish Federation of West-Central New Jersey\nCommunity Calenda
 r\nhttps://jfedwcnj.org/calendar/jfs-job-seekers-success-group-1533566963\
 n\nJFS Job Seekers Success Group
DTSTART;TZID=America/New_York:20180905T190000
DTEND;TZID=America/New_York:20180905T210000
END:VEVENT
END:VCALENDAR
