BEGIN:VCALENDAR
PRODID:-//eluceo/ical//2.0/EN
VERSION:2.0
CALSCALE:GREGORIAN
BEGIN:VEVENT
UID:1e039d31ae5e1a6f769513736d67ad98
DTSTAMP:20260422T072636Z
SUMMARY:JFS Job Seekers Success Group
DESCRIPTION:Jewish Federation of West-Central New Jersey\nCommunity Calenda
 r\nhttps://jfedwcnj.org/calendar/jfs-job-seekers-success-group-1530633605\
 n\nJFS Job Seekers Success Group
DTSTART;TZID=America/New_York:20180801T190000
DTEND;TZID=America/New_York:20180801T210000
END:VEVENT
END:VCALENDAR
