BEGIN:VCALENDAR
PRODID:-//eluceo/ical//2.0/EN
VERSION:2.0
CALSCALE:GREGORIAN
BEGIN:VEVENT
UID:bdbcb827308be4da770188be51953a68
DTSTAMP:20260420T193026Z
SUMMARY:JFS Job Seekers Success Group
DESCRIPTION:Jewish Federation of West-Central New Jersey\nCommunity Calenda
 r\nhttps://jfedwcnj.org/calendar/jfs-job-seekers-success-group-1525970909\
 n\nJFS Job Seekers Success Group
DTSTART;TZID=America/New_York:20180711T190000
DTEND;TZID=America/New_York:20180711T210000
END:VEVENT
END:VCALENDAR
