BEGIN:VCALENDAR
PRODID:-//eluceo/ical//2.0/EN
VERSION:2.0
CALSCALE:GREGORIAN
BEGIN:VEVENT
UID:37d7912f0305f791e5f5ab7cc5ccc764
DTSTAMP:20260423T050634Z
SUMMARY:JFS Job Seekers Success Group
DESCRIPTION:Jewish Federation of West-Central New Jersey\nCommunity Calenda
 r\nhttps://jfedwcnj.org/calendar/jfs-job-seekers-success-group-1507736744\
 n\nJFS Job Seekers Success Group
DTSTART;TZID=America/New_York:20171101T190000
DTEND;TZID=America/New_York:20171101T210000
END:VEVENT
END:VCALENDAR
