BEGIN:VCALENDAR
PRODID:-//eluceo/ical//2.0/EN
VERSION:2.0
CALSCALE:GREGORIAN
BEGIN:VEVENT
UID:22ff0ac7b3c4104190748674d8c48b2e
DTSTAMP:20260422T020213Z
SUMMARY:JFS Job Seekers Success Group
DESCRIPTION:Jewish Federation of West-Central New Jersey\nCommunity Calenda
 r\nhttps://jfedwcnj.org/calendar/jfs-job-seekers-success-group-1505758887\
 n\nJFS Job Seekers Success Group - Hunterdon County
DTSTART;TZID=America/New_York:20171026T100000
DTEND;TZID=America/New_York:20171026T120000
END:VEVENT
END:VCALENDAR
