BEGIN:VCALENDAR
PRODID:-//eluceo/ical//2.0/EN
VERSION:2.0
CALSCALE:GREGORIAN
BEGIN:VEVENT
UID:e060001bd6a2f6c5335cbb2831b75e16
DTSTAMP:20260422T020636Z
SUMMARY:JFS Job Seekers Success Group
DESCRIPTION:Jewish Federation of West-Central New Jersey\nCommunity Calenda
 r\nhttps://jfedwcnj.org/calendar/jfs-job-seekers-success-group-1501775542\
 n\nJFS Job Seekers Success Group
DTSTART;TZID=America/New_York:20170906T190000
DTEND;TZID=America/New_York:20170906T210000
END:VEVENT
END:VCALENDAR
