BEGIN:VCALENDAR
PRODID:-//eluceo/ical//2.0/EN
VERSION:2.0
CALSCALE:GREGORIAN
BEGIN:VEVENT
UID:563d07cda528cd2f46c864ba7e58c374
DTSTAMP:20260420T223628Z
SUMMARY:JFS Job Seekers Success Group
DESCRIPTION:Jewish Federation of West-Central New Jersey\nCommunity Calenda
 r\nhttps://jfedwcnj.org/calendar/jfs-job-seekers-success-group-1498744333\
 n\nJFS Job Seekers Success Group
DTSTART;TZID=America/New_York:20170802T190000
DTEND;TZID=America/New_York:20170802T210000
END:VEVENT
END:VCALENDAR
