BEGIN:VCALENDAR
PRODID:-//eluceo/ical//2.0/EN
VERSION:2.0
CALSCALE:GREGORIAN
BEGIN:VEVENT
UID:3147b0de16937ad3785beb0a21323aac
DTSTAMP:20260423T210205Z
SUMMARY:JFS Job Seekers Success Group
DESCRIPTION:Jewish Federation of West-Central New Jersey\nCommunity Calenda
 r\nhttps://jfedwcnj.org/calendar/jfs-job-seekers-success-group-1491494875\
 n\nJFS Job Seekers Success Group
DTSTART;TZID=America/New_York:20170503T190000
DTEND;TZID=America/New_York:20170503T210000
END:VEVENT
END:VCALENDAR
