BEGIN:VCALENDAR
PRODID:-//eluceo/ical//2.0/EN
VERSION:2.0
CALSCALE:GREGORIAN
BEGIN:VEVENT
UID:74a9c2a6ae4f089e14776e13138f6463
DTSTAMP:20260421T220047Z
SUMMARY:JFS Job Seekers Success Group
DESCRIPTION:Jewish Federation of West-Central New Jersey\nCommunity Calenda
 r\nhttps://jfedwcnj.org/calendar/jfs-job-seekers-success-group-1486397489\
 n\nJFS Job Seekers Success Group
DTSTART;TZID=America/New_York:20170301T190000
DTEND;TZID=America/New_York:20170301T210000
END:VEVENT
END:VCALENDAR
