BEGIN:VCALENDAR
PRODID:-//eluceo/ical//2.0/EN
VERSION:2.0
CALSCALE:GREGORIAN
BEGIN:VEVENT
UID:bb93cd1a80c76365215b28dc7f8d436b
DTSTAMP:20260424T153555Z
SUMMARY:JFS Job Seekers Success Group
DESCRIPTION:Jewish Federation of West-Central New Jersey\nCommunity Calenda
 r\nhttps://jfedwcnj.org/calendar/jfs-job-seekers-success-group-1483982940\
 n\nJFS Job Seekers Success Group
DTSTART;TZID=America/New_York:20170201T190000
DTEND;TZID=America/New_York:20170201T210000
END:VEVENT
END:VCALENDAR
