BEGIN:VCALENDAR
PRODID:-//eluceo/ical//2.0/EN
VERSION:2.0
CALSCALE:GREGORIAN
BEGIN:VEVENT
UID:0e510aa0783b368d61d9ad836b0ab3f1
DTSTAMP:20260424T064843Z
SUMMARY:JFS Job Seekers Success Group
DESCRIPTION:Jewish Federation of West-Central New Jersey\nCommunity Calenda
 r\nhttps://jfedwcnj.org/calendar/jfs-job-seekers-success-group-1478183708\
 n\nJFS Job Seekers Success Group
DTSTART;TZID=America/New_York:20161207T190000
DTEND;TZID=America/New_York:20161207T210000
END:VEVENT
END:VCALENDAR
