BEGIN:VCALENDAR
PRODID:-//eluceo/ical//2.0/EN
VERSION:2.0
CALSCALE:GREGORIAN
BEGIN:VEVENT
UID:48612a7957772793549a7008ebe7dbdc
DTSTAMP:20260422T032913Z
SUMMARY:JFS Job Seekers Success Group
DESCRIPTION:Jewish Federation of West-Central New Jersey\nCommunity Calenda
 r\nhttps://jfedwcnj.org/calendar/jfs-job-seekers-success-group-1470328577\
 n\nJFS Job Seekers Success Group
DTSTART;TZID=America/New_York:20160907T190000
DTEND;TZID=America/New_York:20160907T210000
END:VEVENT
END:VCALENDAR
