BEGIN:VCALENDAR
PRODID:-//eluceo/ical//2.0/EN
VERSION:2.0
CALSCALE:GREGORIAN
BEGIN:VEVENT
UID:e07503a3d5a8ac9ed180567489cc5de1
DTSTAMP:20260420T170210Z
SUMMARY:JFS Job Seekers Success Group
DESCRIPTION:Jewish Federation of West-Central New Jersey\nCommunity Calenda
 r\nhttps://jfedwcnj.org/calendar/jfs-job-seekers-success-group-1468250736\
 n\nJFS Job Seekers Success Group
DTSTART;TZID=America/New_York:20160803T190000
DTEND;TZID=America/New_York:20160803T210000
END:VEVENT
END:VCALENDAR
