BEGIN:VCALENDAR
PRODID:-//eluceo/ical//2.0/EN
VERSION:2.0
CALSCALE:GREGORIAN
BEGIN:VEVENT
UID:c27fb753348c2ac1bcf951ea8ae8a2cf
DTSTAMP:20260422T211152Z
SUMMARY:JFS Job Seekers Success Group
DESCRIPTION:Jewish Federation of West-Central New Jersey\nCommunity Calenda
 r\nhttps://jfedwcnj.org/calendar/jfs-job-seekers-success-group-11-23\n\nJe
 wish Family Service of Somerset\, Hunterdon and Warren Counties is offerin
 g a Job Seekers Success Group for active job seekers who are unemployed\, 
 underemployed or seeking a career change.  The next group will be held on
  Wednesday\, November 1\, 2023 from 7:00-9:00 p.m. via Zoom. The topic for
  this session is   “How to Nail Your Next Interview” presented by Ke
 n Sher\, Sher Coaching.\n\nSo\, you finally get to the hiring manager of t
 he company you’ve targeted for the last few months and ...
DTSTART;TZID=America/New_York:20231101T190000
DTEND;TZID=America/New_York:20231101T210000
END:VEVENT
END:VCALENDAR
