BEGIN:VCALENDAR
PRODID:-//eluceo/ical//2.0/EN
VERSION:2.0
CALSCALE:GREGORIAN
BEGIN:VEVENT
UID:ebcdb36abc94d0728b4a3fb170ce74f8
DTSTAMP:20260422T100247Z
SUMMARY:JFS Job Seekers Success Group - Hunterdon County
DESCRIPTION:Jewish Federation of West-Central New Jersey\nCommunity Calenda
 r\nhttps://jfedwcnj.org/calendar/jfs-job-seekers-success-group---hunterdon
 -county-1514989342\n\nJFS Job Seekers Success Group - Hunterdon County
DTSTART;TZID=America/New_York:20180118T100000
DTEND;TZID=America/New_York:20180118T120000
END:VEVENT
END:VCALENDAR
