BEGIN:VCALENDAR
PRODID:-//eluceo/ical//2.0/EN
VERSION:2.0
CALSCALE:GREGORIAN
BEGIN:VEVENT
UID:6bfc3eed18215179dfeaaaa2efd82d26
DTSTAMP:20260424T025117Z
SUMMARY:JFS Job Seekers Success Group -
DESCRIPTION:Jewish Federation of West-Central New Jersey\nCommunity Calenda
 r\nhttps://jfedwcnj.org/calendar/jfs-job-seekers-success-group---151543242
 3\n\nJFS Job Seekers Success Group
DTSTART;TZID=America/New_York:20180207T190000
DTEND;TZID=America/New_York:20180207T210000
END:VEVENT
END:VCALENDAR
