BEGIN:VCALENDAR
PRODID:-//eluceo/ical//2.0/EN
VERSION:2.0
CALSCALE:GREGORIAN
BEGIN:VEVENT
UID:ff6c22462fa54e5cddf38b855b11172b
DTSTAMP:20260422T155455Z
SUMMARY:JFS Job Seekers Success Group
DESCRIPTION:Jewish Federation of West-Central New Jersey\nCommunity Calenda
 r\nhttps://jfedwcnj.org/calendar/jfs-job-seekers-success-group\n\nJFS Job 
 Seekers Success Group
DTSTART;TZID=America/New_York:20190501T190000
DTEND;TZID=America/New_York:20190501T210000
END:VEVENT
END:VCALENDAR
