BEGIN:VCALENDAR
PRODID:-//eluceo/ical//2.0/EN
VERSION:2.0
CALSCALE:GREGORIAN
BEGIN:VEVENT
UID:2dc39efecc34252c955ed7d60ec41db8
DTSTAMP:20260422T183322Z
SUMMARY:JFS Job Seeker Support Group
DESCRIPTION:Jewish Federation of West-Central New Jersey\nCommunity Calenda
 r\nhttps://jfedwcnj.org/calendar/jfs-job-seeker-support-group\n\nJFS Job S
 eeker Support Group
DTSTART;TZID=America/New_York:20130102T190000
DTEND;TZID=America/New_York:20130102T210000
END:VEVENT
END:VCALENDAR
