BEGIN:VCALENDAR
PRODID:-//eluceo/ical//2.0/EN
VERSION:2.0
CALSCALE:GREGORIAN
BEGIN:VEVENT
UID:dbdd21aec18997f8fb074b2951e90d99
DTSTAMP:20260422T190741Z
SUMMARY:JFS-Jewish Life Program
DESCRIPTION:Jewish Federation of West-Central New Jersey\nCommunity Calenda
 r\nhttps://jfedwcnj.org/calendar/jfs-jewish-life-program-1502994291\n\nJFS
 /Jewish Life\nYvette Manesis: Something Beautiful Happened
DTSTART;TZID=America/New_York:20180118T190000
DTEND;TZID=America/New_York:20180118T210000
END:VEVENT
END:VCALENDAR
