BEGIN:VCALENDAR
PRODID:-//eluceo/ical//2.0/EN
VERSION:2.0
CALSCALE:GREGORIAN
BEGIN:VEVENT
UID:f3da70d1fc58b17e20f8c9bff0baed66
DTSTAMP:20260422T052215Z
SUMMARY:JFS Grow a Row
DESCRIPTION:Jewish Federation of West-Central New Jersey\nCommunity Calenda
 r\nhttps://jfedwcnj.org/calendar/jfs-grow-a-row\n\nJFS Grow a Row
DTSTART;TZID=America/New_York:20220720T083000
DTEND;TZID=America/New_York:20220720T121500
END:VEVENT
END:VCALENDAR
