BEGIN:VCALENDAR
PRODID:-//eluceo/ical//2.0/EN
VERSION:2.0
CALSCALE:GREGORIAN
BEGIN:VEVENT
UID:53ee31d6c5af3eb24b3ab607ec8c030e
DTSTAMP:20260421T054802Z
SUMMARY:JFS Good Deeds Corps Information Day
DESCRIPTION:Jewish Federation of West-Central New Jersey\nCommunity Calenda
 r\nhttps://jfedwcnj.org/calendar/jfs-good-deeds-corps-information-day-1458
 846205\n\nJFS Good Deeds Corps Information Day at the Shimon and Sara Birn
 baum JCC\, Sunday\, April 10\, 2016 from 9 AM- Noon.\nStop by for a bagel 
 and some information on making referrals to the Good Deeds Corps\, or volu
 nteering some of your time.\n
DTSTART;TZID=America/New_York:20160410T090000
DTEND;TZID=America/New_York:20160410T120000
END:VEVENT
END:VCALENDAR
