BEGIN:VCALENDAR
PRODID:-//eluceo/ical//2.0/EN
VERSION:2.0
CALSCALE:GREGORIAN
BEGIN:VEVENT
UID:edf7403fe693e9f54ee23ca3d8cc081d
DTSTAMP:20260421T005949Z
SUMMARY:JFS Fitness Challenge 2
DESCRIPTION:Jewish Federation of West-Central New Jersey\nCommunity Calenda
 r\nhttps://jfedwcnj.org/calendar/jfs-fitness-challenge-2-1479134656\n\nJFS
  Fitness Challenge 2
DTSTART;TZID=America/New_York:20170521T103000
DTEND;TZID=America/New_York:20170521T123000
END:VEVENT
END:VCALENDAR
