BEGIN:VCALENDAR
PRODID:-//eluceo/ical//2.0/EN
VERSION:2.0
CALSCALE:GREGORIAN
BEGIN:VEVENT
UID:f20959f2591652b989c6f7a43df06657
DTSTAMP:20260422T072046Z
SUMMARY:JFS Fitness Challenge
DESCRIPTION:Jewish Federation of West-Central New Jersey\nCommunity Calenda
 r\nhttps://jfedwcnj.org/calendar/jfs-fitness-challenge-1545316223\n\nJFS F
 itness Challenge
DTSTART;TZID=America/New_York:20190310T131500
DTEND;TZID=America/New_York:20190310T150000
END:VEVENT
END:VCALENDAR
