BEGIN:VCALENDAR
PRODID:-//eluceo/ical//2.0/EN
VERSION:2.0
CALSCALE:GREGORIAN
BEGIN:VEVENT
UID:d3e27cdb74acf692bb15a23297e87977
DTSTAMP:20260424T081013Z
SUMMARY:JFS Fitness Challenge
DESCRIPTION:Jewish Federation of West-Central New Jersey\nCommunity Calenda
 r\nhttps://jfedwcnj.org/calendar/jfs-fitness-challenge-1502994666\n\nJFS F
 itness Challenge
DTSTART;TZID=America/New_York:20180128T123000
DTEND;TZID=America/New_York:20180128T143000
END:VEVENT
END:VCALENDAR
