BEGIN:VCALENDAR
PRODID:-//eluceo/ical//2.0/EN
VERSION:2.0
CALSCALE:GREGORIAN
BEGIN:VEVENT
UID:1b7d20d9694492ba26a72cb52c9589d3
DTSTAMP:20260422T151554Z
SUMMARY:JFS Fitness Challenge
DESCRIPTION:Jewish Federation of West-Central New Jersey\nCommunity Calenda
 r\nhttps://jfedwcnj.org/calendar/jfs-fitness-challenge-1452629033\n\nJFS F
 itness Challenge
DTSTART;TZID=America/New_York:20160605T090000
DTEND;TZID=America/New_York:20160605T120000
END:VEVENT
END:VCALENDAR
