BEGIN:VCALENDAR
PRODID:-//eluceo/ical//2.0/EN
VERSION:2.0
CALSCALE:GREGORIAN
BEGIN:VEVENT
UID:eaa9ab64b21d8228707427b5e160d4c2
DTSTAMP:20260422T090957Z
SUMMARY:JFS Daffodil Project
DESCRIPTION:Jewish Federation of West-Central New Jersey\nCommunity Calenda
 r\nhttps://jfedwcnj.org/calendar/jfs-daffodil-project-1536259908\n\nJFS Da
 ffodil Project 
DTSTART;TZID=America/New_York:20181021T100000
DTEND;TZID=America/New_York:20181021T120000
END:VEVENT
END:VCALENDAR
