BEGIN:VCALENDAR
PRODID:-//eluceo/ical//2.0/EN
VERSION:2.0
CALSCALE:GREGORIAN
BEGIN:VEVENT
UID:76320e16ef7e423e79b7dd6a43ff326a
DTSTAMP:20260424T025037Z
SUMMARY:JFS Cafe Europa
DESCRIPTION:Jewish Federation of West-Central New Jersey\nCommunity Calenda
 r\nhttps://jfedwcnj.org/calendar/jfs-cafe-europa-1441821322\n\nJFS Caf&eac
 ute\; Europa is a monthly socialization group for Holocaust survivors.
DTSTART;TZID=America/New_York:20151014T100000
DTEND;TZID=America/New_York:20151014T113000
END:VEVENT
END:VCALENDAR
