BEGIN:VCALENDAR
PRODID:-//eluceo/ical//2.0/EN
VERSION:2.0
CALSCALE:GREGORIAN
BEGIN:VEVENT
UID:4e9fb5c5dd393a487cd27d564fc66100
DTSTAMP:20260422T135735Z
SUMMARY:JFS Board of Trustees Meeting
DESCRIPTION:Jewish Federation of West-Central New Jersey\nCommunity Calenda
 r\nhttps://jfedwcnj.org/calendar/jfs-board-of-trustees-meeting-1435770459\
 n\nJFS Board of Trustees Meeting
DTSTART;TZID=America/New_York:20160420T190000
DTEND;TZID=America/New_York:20160420T210000
END:VEVENT
END:VCALENDAR
