BEGIN:VCALENDAR
PRODID:-//eluceo/ical//2.0/EN
VERSION:2.0
CALSCALE:GREGORIAN
BEGIN:VEVENT
UID:60da07b261c8121ee3138cc3c8d8a57e
DTSTAMP:20260423T101847Z
SUMMARY:JFS Board of Trustees Meeting
DESCRIPTION:Jewish Federation of West-Central New Jersey\nCommunity Calenda
 r\nhttps://jfedwcnj.org/calendar/jfs-board-of-trustees-meeting-1435770394\
 n\nJFS Board of Trustees Meeting
DTSTART;TZID=America/New_York:20160330T190000
DTEND;TZID=America/New_York:20160330T210000
END:VEVENT
END:VCALENDAR
