BEGIN:VCALENDAR
PRODID:-//eluceo/ical//2.0/EN
VERSION:2.0
CALSCALE:GREGORIAN
BEGIN:VEVENT
UID:930f6796529028081e7e80514d3c9e30
DTSTAMP:20260422T015757Z
SUMMARY:JFS Board of Trustees Meeting
DESCRIPTION:Jewish Federation of West-Central New Jersey\nCommunity Calenda
 r\nhttps://jfedwcnj.org/calendar/jfs-board-of-trustees-meeting-1435770325\
 n\nJFS Board of Trustees Meeting
DTSTART;TZID=America/New_York:20160224T190000
DTEND;TZID=America/New_York:20160224T210000
END:VEVENT
END:VCALENDAR
