BEGIN:VCALENDAR
PRODID:-//eluceo/ical//2.0/EN
VERSION:2.0
CALSCALE:GREGORIAN
BEGIN:VEVENT
UID:a8140cf09d85d00e979496f583f0257f
DTSTAMP:20260423T150101Z
SUMMARY:JFS Board of Trustees Meeting
DESCRIPTION:Jewish Federation of West-Central New Jersey\nCommunity Calenda
 r\nhttps://jfedwcnj.org/calendar/jfs-board-of-trustees-meeting-1435770258\
 n\nJFS Board of Trustees Meeting
DTSTART;TZID=America/New_York:20160127T190000
DTEND;TZID=America/New_York:20160127T210000
END:VEVENT
END:VCALENDAR
