BEGIN:VCALENDAR
PRODID:-//eluceo/ical//2.0/EN
VERSION:2.0
CALSCALE:GREGORIAN
BEGIN:VEVENT
UID:6843b0a51e804545a0a46b48afd30ac0
DTSTAMP:20260423T082918Z
SUMMARY:JFS Board of Trustees Meeting
DESCRIPTION:Jewish Federation of West-Central New Jersey\nCommunity Calenda
 r\nhttps://jfedwcnj.org/calendar/jfs-board-of-trustees-meeting-1435770085\
 n\nJFS Board of Trustees Meeting
DTSTART;TZID=America/New_York:20151118T190000
DTEND;TZID=America/New_York:20151118T210000
END:VEVENT
END:VCALENDAR
