BEGIN:VCALENDAR
PRODID:-//eluceo/ical//2.0/EN
VERSION:2.0
CALSCALE:GREGORIAN
BEGIN:VEVENT
UID:2090fa1353896902198489f920441be5
DTSTAMP:20260421T151702Z
SUMMARY:JFS Board of Trustees Meeting
DESCRIPTION:Jewish Federation of West-Central New Jersey\nCommunity Calenda
 r\nhttps://jfedwcnj.org/calendar/jfs-board-of-trustees-meeting-1435769997\
 n\nJFS Board of Trustees Meeting
DTSTART;TZID=America/New_York:20151028T190000
DTEND;TZID=America/New_York:20151028T210000
END:VEVENT
END:VCALENDAR
