BEGIN:VCALENDAR
PRODID:-//eluceo/ical//2.0/EN
VERSION:2.0
CALSCALE:GREGORIAN
BEGIN:VEVENT
UID:54b33d7ed159ce14f026e726328c64aa
DTSTAMP:20260422T095323Z
SUMMARY:JFS Board of Trustees Meeting
DESCRIPTION:Jewish Federation of West-Central New Jersey\nCommunity Calenda
 r\nhttps://jfedwcnj.org/calendar/jfs-board-of-trustees-meeting-1435769926\
 n\nJFS Board of Trustees Meeting
DTSTART;TZID=America/New_York:20150916T190000
DTEND;TZID=America/New_York:20150916T210000
END:VEVENT
END:VCALENDAR
