BEGIN:VCALENDAR
PRODID:-//eluceo/ical//2.0/EN
VERSION:2.0
CALSCALE:GREGORIAN
BEGIN:VEVENT
UID:bc0003e3fbf355c84fd2a959a167be7b
DTSTAMP:20260422T213445Z
SUMMARY:JFS Board of Trustees  Annual Meeting
DESCRIPTION:Jewish Federation of West-Central New Jersey\nCommunity Calenda
 r\nhttps://jfedwcnj.org/calendar/jfs-board-of-trustees--annual-meeting-143
 5770620\n\nJFS Annual Board Meeting
DTSTART;TZID=America/New_York:20160601T190000
DTEND;TZID=America/New_York:20160601T210000
END:VEVENT
END:VCALENDAR
