BEGIN:VCALENDAR
PRODID:-//eluceo/ical//2.0/EN
VERSION:2.0
CALSCALE:GREGORIAN
BEGIN:VEVENT
UID:fea2e96dce403a050b8cd6235b1a4d2b
DTSTAMP:20260424T154427Z
SUMMARY:JFS Annual Meeting
DESCRIPTION:Jewish Federation of West-Central New Jersey\nCommunity Calenda
 r\nhttps://jfedwcnj.org/calendar/jfs-annual-meeting-1525970742\n\nJFS Annu
 al Meeting
DTSTART;TZID=America/New_York:20180606T190000
DTEND;TZID=America/New_York:20180606T210000
END:VEVENT
END:VCALENDAR
