BEGIN:VCALENDAR
PRODID:-//eluceo/ical//2.0/EN
VERSION:2.0
CALSCALE:GREGORIAN
BEGIN:VEVENT
UID:14b6bef1c75f1433e8205e2f5176041c
DTSTAMP:20260422T131830Z
SUMMARY:JFS Annual Meeting
DESCRIPTION:Jewish Federation of West-Central New Jersey\nCommunity Calenda
 r\nhttps://jfedwcnj.org/calendar/jfs-annual-meeting\n\nThe community is in
 vited to the JFS 2019 Annual Meeting at 7:00 pm at The Oscar and Ella Wilf
  Campus for Senior Living Education and Resource Center Building\, 350 De
 Mott Lane\, Somerset\, NJ.
DTSTART;TZID=America/New_York:20190605T190000
DTEND;TZID=America/New_York:20190605T210000
END:VEVENT
END:VCALENDAR
