BEGIN:VCALENDAR
PRODID:-//eluceo/ical//2.0/EN
VERSION:2.0
CALSCALE:GREGORIAN
BEGIN:VEVENT
UID:3cc1b38b75e86bd7af3bb66ae4d53441
DTSTAMP:20260423T203318Z
SUMMARY:JFS and Temple Sholom Program
DESCRIPTION:Jewish Federation of West-Central New Jersey\nCommunity Calenda
 r\nhttps://jfedwcnj.org/calendar/jfs-and-temple-sholom-program-1536851942\
 n\n “Turning Passion into Action: Helping Teens Embrace Who They Are and
  Make their Positive Mark on the World”
DTSTART;TZID=America/New_York:20181017T200000
DTEND;TZID=America/New_York:20181017T220000
END:VEVENT
END:VCALENDAR
