BEGIN:VCALENDAR
PRODID:-//eluceo/ical//2.0/EN
VERSION:2.0
CALSCALE:GREGORIAN
BEGIN:VEVENT
UID:0298fdba284f2d9e680893ea4dd5ee7c
DTSTAMP:20260421T235005Z
SUMMARY:JFS and Jewish LIFE Program
DESCRIPTION:Jewish Federation of West-Central New Jersey\nCommunity Calenda
 r\nhttps://jfedwcnj.org/calendar/jfs-and-jewish-life-program-1535642394\n\
 n“Unconditional Love: A guide to Navigating the Joys and Challenges of B
 eing a Grandparent Today” will be presented by Jane Isay\, Author\, on W
 ednesday\, September 26\, 2018 at 12 noon at The SSBJCC\, 775 Talamini Roa
 d\, Bridgewater. The program is $18 and includes lunch. 
DTSTART;TZID=America/New_York:20180926T120000
DTEND;TZID=America/New_York:20180926T140000
END:VEVENT
END:VCALENDAR
