BEGIN:VCALENDAR
PRODID:-//eluceo/ical//2.0/EN
VERSION:2.0
CALSCALE:GREGORIAN
BEGIN:VEVENT
UID:53a5bf07c8705fb2ac8fd3bcb98ae982
DTSTAMP:20260420T080529Z
SUMMARY:JFS 40th Anniversary Open House
DESCRIPTION:Jewish Federation of West-Central New Jersey\nCommunity Calenda
 r\nhttps://jfedwcnj.org/calendar/jfs-40th-anniversary-open-house-157436311
 8\n\nJFS 40th Anniversary Open House
DTSTART;TZID=America/New_York:20200525T130000
DTEND;TZID=America/New_York:20200525T180000
END:VEVENT
END:VCALENDAR
