BEGIN:VCALENDAR
PRODID:-//eluceo/ical//2.0/EN
VERSION:2.0
CALSCALE:GREGORIAN
BEGIN:VEVENT
UID:519f97343ff2bc079477cc7dce5cae66
DTSTAMP:20260422T175438Z
SUMMARY:JFS 40th Anniversary Open House
DESCRIPTION:Jewish Federation of West-Central New Jersey\nCommunity Calenda
 r\nhttps://jfedwcnj.org/calendar/jfs-40th-anniversary-open-house-157435059
 6\n\nJFS 40th Anniversary Open House
DTSTART;TZID=America/New_York:20200514T170000
DTEND;TZID=America/New_York:20200514T190000
END:VEVENT
END:VCALENDAR
