BEGIN:VCALENDAR
PRODID:-//eluceo/ical//2.0/EN
VERSION:2.0
CALSCALE:GREGORIAN
BEGIN:VEVENT
UID:b9b150b063a98bef38c3029fe1c1d3df
DTSTAMP:20260422T185219Z
SUMMARY:JFS 36th Anniversary Shabbat
DESCRIPTION:Jewish Federation of West-Central New Jersey\nCommunity Calenda
 r\nhttps://jfedwcnj.org/calendar/jfs-36th-anniversary-shabbat-1459875687\n
 \nJFS 36th Anniversary Shabbat at Temple Beth El\, Somerset
DTSTART;TZID=America/New_York:20160514T100000
DTEND;TZID=America/New_York:20160514T120000
END:VEVENT
END:VCALENDAR
