BEGIN:VCALENDAR
PRODID:-//eluceo/ical//2.0/EN
VERSION:2.0
CALSCALE:GREGORIAN
BEGIN:VEVENT
UID:b038d3d9a3bc580c87acaa6c71707e7c
DTSTAMP:20260422T133439Z
SUMMARY:JFS 36th Anniversary Shabbat
DESCRIPTION:Jewish Federation of West-Central New Jersey\nCommunity Calenda
 r\nhttps://jfedwcnj.org/calendar/jfs-36th-anniversary-shabbat-1459875435\n
 \nJFS 36th Anniversary Shabbat at Chai Center for Life\, Watchung
DTSTART;TZID=America/New_York:20160513T200000
DTEND;TZID=America/New_York:20160513T210000
END:VEVENT
END:VCALENDAR
